BEGIN:VCALENDAR
VERSION:2.0
PRODID:icalendar-ruby
CALSCALE:GREGORIAN
METHOD:PUBLISH
BEGIN:VEVENT
DTSTAMP:20260422T021752Z
UID:6-254206@familylifechurchalaska.com
DTSTART:20260920T180000Z
DTEND:20260920T190000Z
CLASS:PUBLIC
CREATED:20260421T164402
DESCRIPTION:Sunday Service
LAST-MODIFIED:20260421T164402
LOCATION:Valley Performing Arts
SUMMARY:Sunday Service
URL;VALUE=URI:https://familylifechurchalaska.com/events/sunday-service/2026
 -09-20
END:VEVENT
END:VCALENDAR
