BEGIN:VCALENDAR
VERSION:2.0
PRODID:icalendar-ruby
CALSCALE:GREGORIAN
METHOD:PUBLISH
BEGIN:VEVENT
DTSTAMP:20260422T141709Z
UID:6-254391@familylifechurchalaska.com
DTSTART:20261101T190000Z
DTEND:20261101T200000Z
CLASS:PUBLIC
CREATED:20260422T034722
DESCRIPTION:Sunday Service
LAST-MODIFIED:20260422T034722
LOCATION:Valley Performing Arts
SUMMARY:Sunday Service
URL;VALUE=URI:https://familylifechurchalaska.com/events/sunday-service/2026
 -11-01
END:VEVENT
END:VCALENDAR
